BEGIN:VCALENDAR
VERSION:2.0
PRODID:-//ChamberMaster//Event Calendar 2.0//EN
METHOD:PUBLISH
X-PUBLISHED-TTL:P1H
REFRESH-INTERVAL:P1H
CALSCALE:GREGORIAN
BEGIN:VTIMEZONE
TZID:America/Chicago
BEGIN:DAYLIGHT
RRULE:FREQ=YEARLY;BYMONTH=3;BYDAY=2SU
DTSTART:20070101T000000
TZOFFSETFROM:-0600
TZOFFSETTO:-0500
TZNAME:Central Daylight Time
END:DAYLIGHT
BEGIN:STANDARD
RRULE:FREQ=YEARLY;BYMONTH=11;BYDAY=1SU
DTSTART:20070101T000000
TZOFFSETFROM:-0500
TZOFFSETTO:-0600
TZNAME:Central Standard Time
END:STANDARD
END:VTIMEZONE
BEGIN:VEVENT
DTSTART;TZID=America/Chicago:20260924T070000
DTEND;TZID=America/Chicago:20260924T083000
X-MICROSOFT-CDO-ALLDAYEVENT:FALSE
SUMMARY:Salvation Army Kroc Center Business Before Hours
DESCRIPTION:Come join us for the Business Before Hours at Salvation Army Kroc Center. Free to attend for members. Gather your business cards and join us for networking\, light breakfast items\, and prizes. Reservations strongly suggested for all 2026 Business Before Hours!
X-ALT-DESC;FMTTYPE=text/html:<!DOCTYPE html><html><head><title></title></head><body aria-disabled="false"><p>Come join us for the Business Before Hours at Salvation Army Kroc Center. Free to attend for members. Gather your business cards and join us for networking\, light breakfast items\, and prizes. Reservations strongly suggested for all 2026 Business Before Hours!</p></body></html>
LOCATION:405 Vermont St Quincy IL 62301
UID:e.3331.1252605
SEQUENCE:3
DTSTAMP:20260420T151021Z
URL:https://business.quincychamber.org/chamber-events/Details/salvation-army-kroc-center-business-before-hours-1464573?sourceTypeId=Hub
END:VEVENT
END:VCALENDAR
