BEGIN:VCALENDAR
VERSION:2.0
PRODID:-//ChamberMaster//Event Calendar 2.0//EN
METHOD:PUBLISH
X-PUBLISHED-TTL:P1H
REFRESH-INTERVAL:P1H
CALSCALE:GREGORIAN
BEGIN:VTIMEZONE
TZID:America/Chicago
BEGIN:DAYLIGHT
RRULE:FREQ=YEARLY;BYMONTH=3;BYDAY=2SU
DTSTART:20070101T000000
TZOFFSETFROM:-0600
TZOFFSETTO:-0500
TZNAME:Central Daylight Time
END:DAYLIGHT
BEGIN:STANDARD
RRULE:FREQ=YEARLY;BYMONTH=11;BYDAY=1SU
DTSTART:20070101T000000
TZOFFSETFROM:-0500
TZOFFSETTO:-0600
TZNAME:Central Standard Time
END:STANDARD
END:VTIMEZONE
BEGIN:VEVENT
DTSTART;TZID=America/Chicago:20260430T163000
DTEND;TZID=America/Chicago:20260430T170000
X-MICROSOFT-CDO-ALLDAYEVENT:FALSE
SUMMARY:Quincy Medical Group Birth Center Ribbon Cutting
DESCRIPTION:The Quincy Area Chamber is excited to host the Quincy Medical Group Birth Center's Ribbon Cutting on April 30th at 4:30 pm. Open House to follow immediately. As the first of its kind in our region\, the QMG Birth Center offers a safe\, welcoming space for individuals seeking a more natural and personalized birth experience. With certified nurse midwives providing care from routine services to prenatal\, delivery\, and postpartum support\, this center is designed with families in mind. Join us at 3301 Broadway St. on the Quincy Town Center campus as we celebrate this meaningful addition to our community.
X-ALT-DESC;FMTTYPE=text/html:<!DOCTYPE html><html><head><title></title></head><body aria-disabled="false"><p>The Quincy Area Chamber is excited to host the Quincy Medical Group Birth Center&rsquo\;s Ribbon Cutting on April 30th at 4:30 pm. Open House to follow immediately. As the first of its kind in our region\, the QMG Birth Center offers a safe\, welcoming space for individuals seeking a more natural and personalized birth experience. With certified nurse midwives providing care from routine services to prenatal\, delivery\, and postpartum support\, this center is designed with families in mind. Join us at 3301 Broadway St. on the Quincy Town Center campus as we celebrate this meaningful addition to our community.</p></body></html>
LOCATION:3301 Broadway St suite 102 Quincy IL 62301
UID:e.3331.1444091
SEQUENCE:3
DTSTAMP:20260420T150640Z
URL:https://business.quincychamber.org/chamber-events/Details/quincy-medical-group-birth-center-ribbon-cutting-1710402?sourceTypeId=Hub
END:VEVENT
END:VCALENDAR
